BEGIN:VCALENDAR
VERSION:2.0
PRODID:-//hacksw/handcal//NONSGML v1.0//EN
BEGIN:VEVENT
UID:4d7717c18198719e7580f3d2c5915359
DTSTAMP:20260420T070618Z

DTSTART:20260914T090000
DTEND:20260916T170000
SUMMARY:Ohio Realtors 2026 Annual Convention & EXPO
DESCRIPTION:Annual Convention & EXPO | Sept. 14–16, 2026 | Columbus | Hilton Columbus Downtown\n

X-ALT-DESC;FMTTYPE=text/html:<!DOCTYPE HTML PUBLIC "-//W3C//DTD HTML 3.2//EN">\n<HTML>\n<HEAD>\n<META NAME="Generator" CONTENT="MS Exchange Server version 08.00.0681.000">\n<TITLE></TITLE>\n</HEAD>\n<BODY>\n<!-- Converted from text/rtf format -->\n\nAnnual Convention & EXPO | Sept. 14–16, 2026 | Columbus | Hilton Columbus Downtown<br />\n\n</BODY>\n</HTML>

LOCATION:Hilton Columbus Downtown, 402, North High Street, Arena District, Columbus, Franklin County, Ohio, 43215, United States of America
END:VEVENT

END:VCALENDAR
