BEGIN:VCALENDAR
VERSION:2.0
PRODID:-//hacksw/handcal//NONSGML v1.0//EN
BEGIN:VEVENT
UID:444942780269026c3504b48bce1f1c0e
DTSTAMP:20260420T052017Z

DTSTART:20261019T090000
DTEND:20261021T170000
SUMMARY:REAL: Oklahoma REALTORS® 2026 Annual Conference
DESCRIPTION:At REAL: Oklahoma REALTORS® Annual Conference, REALTORS® come together to ignite real growth, real connections, and real impact. This is your space to level up—whether you’re building your first deal or scaling a thriving business, REAL is where you build yourself, build your business, and build your future.

X-ALT-DESC;FMTTYPE=text/html:<!DOCTYPE HTML PUBLIC "-//W3C//DTD HTML 3.2//EN">\n<HTML>\n<HEAD>\n<META NAME="Generator" CONTENT="MS Exchange Server version 08.00.0681.000">\n<TITLE></TITLE>\n</HEAD>\n<BODY>\n<!-- Converted from text/rtf format -->\n\nAt REAL: Oklahoma REALTORS® Annual Conference, REALTORS® come together to ignite real growth, real connections, and real impact. This is your space to level up—whether you’re building your first deal or scaling a thriving business, REAL is where you build yourself, build your business, and build your future.\n\n</BODY>\n</HTML>

LOCATION:First Americans Boulevard, Oklahoma City, Oklahoma County, Oklahoma, 73149, United States of America
END:VEVENT

END:VCALENDAR
