BEGIN:VCALENDAR
VERSION:2.0
PRODID:-//hacksw/handcal//NONSGML v1.0//EN
BEGIN:VEVENT
UID:d22bd0ba78701f751d1c6c0a0c67575b
DTSTAMP:20260420T062652Z

DTSTART:20260210T090000
DTEND:20260211T170000
SUMMARY:Oklahoma REALTORS® Capitol Conference 2026
DESCRIPTION:Capitol Conference brings you face-to-face with legislators and industry leaders for conversations and a legislative reception—all while diving into the policies that shape real estate in Oklahoma. More than a day of meetings, it’s your chance to make a lasting impact on the future of our industry.

X-ALT-DESC;FMTTYPE=text/html:<!DOCTYPE HTML PUBLIC "-//W3C//DTD HTML 3.2//EN">\n<HTML>\n<HEAD>\n<META NAME="Generator" CONTENT="MS Exchange Server version 08.00.0681.000">\n<TITLE></TITLE>\n</HEAD>\n<BODY>\n<!-- Converted from text/rtf format -->\n\nCapitol Conference brings you face-to-face with legislators and industry leaders for conversations and a legislative reception—all while diving into the policies that shape real estate in Oklahoma. More than a day of meetings, it’s your chance to make a lasting impact on the future of our industry.\n\n</BODY>\n</HTML>

LOCATION:807, North Broadway Avenue, Oklahoma City, Oklahoma County, Oklahoma, 73102, United States of America
END:VEVENT

END:VCALENDAR
