BEGIN:VCALENDAR
VERSION:2.0
PRODID:-//hacksw/handcal//NONSGML v1.0//EN
BEGIN:VEVENT
UID:c8827a25eea3529b6f1000e7216b871b
DTSTAMP:20260420T110847Z

DTSTART:20260831T090000
DTEND:20260902T170000
SUMMARY:Utah Realtors Convention 2026
DESCRIPTION:Save the date: Convention 2026\nAug. 31-Sept. 2, 2026\nHoodoo Hotel\nMoab, Utah\nPresented by the Utah Association of REALTORS®\nMore information coming soon!

X-ALT-DESC;FMTTYPE=text/html:<!DOCTYPE HTML PUBLIC "-//W3C//DTD HTML 3.2//EN">\n<HTML>\n<HEAD>\n<META NAME="Generator" CONTENT="MS Exchange Server version 08.00.0681.000">\n<TITLE></TITLE>\n</HEAD>\n<BODY>\n<!-- Converted from text/rtf format -->\n\nSave the date: Convention 2026<br />Aug. 31-Sept. 2, 2026<br />Hoodoo Hotel<br />Moab, Utah<br />Presented by the Utah Association of REALTORS®<br />More information coming soon!\n\n</BODY>\n</HTML>

LOCATION:Hoodoo Moab, Curio Collection by Hilton, 111, 100 West, Moab, Grand County, Utah, 84532, United States
END:VEVENT

END:VCALENDAR
