BEGIN:VCALENDAR
VERSION:2.0
PRODID:-//hacksw/handcal//NONSGML v1.0//EN
BEGIN:VEVENT
UID:5f5df3b879d28e0060d36a4cec30a464
DTSTAMP:20260420T124108Z

DTSTART:20260205T090000
DTEND:20260205T170000
SUMMARY:Virginia REALTORS® BrokerPlus 2026
DESCRIPTION:Attention brokers and industry leaders! It’s time to get together and learn the most up-to-date information about YOUR ever-changing industry at the annual BrokerPlus event hosted by Virginia REALTORS® on February 5, 2026 at the Boar's Head Resort in Charlottesville.

X-ALT-DESC;FMTTYPE=text/html:<!DOCTYPE HTML PUBLIC "-//W3C//DTD HTML 3.2//EN">\n<HTML>\n<HEAD>\n<META NAME="Generator" CONTENT="MS Exchange Server version 08.00.0681.000">\n<TITLE></TITLE>\n</HEAD>\n<BODY>\n<!-- Converted from text/rtf format -->\n\nAttention brokers and industry leaders! It’s time to get together and learn the most up-to-date information about YOUR ever-changing industry at the annual BrokerPlus event hosted by Virginia REALTORS® on February 5, 2026 at the Boar's Head Resort in Charlottesville.\n\n</BODY>\n</HTML>

LOCATION:Boar's Head Resort, 200, Ednam Drive, Ednam Forest, Charlottesville, Albemarle County, Virginia, 22903, United States
END:VEVENT

END:VCALENDAR
