BEGIN:VCALENDAR
VERSION:2.0
PRODID:-//hacksw/handcal//NONSGML v1.0//EN
BEGIN:VEVENT
UID:ebeb83586078691d46c349f872eac7e7
DTSTAMP:20260420T111816Z

DTSTART:20261019T090000
DTEND:20261021T170000
SUMMARY:Virginia REALTORS® PMX 2026: Property Management Conference
DESCRIPTION:PMX 2026: Property Management Conference is a can't-miss event for property managers! You will learn the things you need to grow and maintain a thriving property management business. We hope you make plans to join us for this unparalleled growth and networking opportunity that includes the ability to earn continuing education credits with classes targeted specifically to your needs as a property manager.

X-ALT-DESC;FMTTYPE=text/html:<!DOCTYPE HTML PUBLIC "-//W3C//DTD HTML 3.2//EN">\n<HTML>\n<HEAD>\n<META NAME="Generator" CONTENT="MS Exchange Server version 08.00.0681.000">\n<TITLE></TITLE>\n</HEAD>\n<BODY>\n<!-- Converted from text/rtf format -->\n\nPMX 2026: Property Management Conference is a can't-miss event for property managers! You will learn the things you need to grow and maintain a thriving property management business. We hope you make plans to join us for this unparalleled growth and networking opportunity that includes the ability to earn continuing education credits with classes targeted specifically to your needs as a property manager.\n\n</BODY>\n</HTML>

LOCATION:Hotel Madison, Martin Luther King Jr. Way, Preston Heights, Harrisonburg, Virginia, 22081, United States
END:VEVENT

END:VCALENDAR
