BEGIN:VCALENDAR
VERSION:2.0
PRODID:-//hacksw/handcal//NONSGML v1.0//EN
BEGIN:VEVENT
UID:d5aeb546cba793e95df13b4905d17009
DTSTAMP:20260420T093141Z

DTSTART:20260921T090000
DTEND:20260923T170000
SUMMARY:West Virginia REALTORS® Annual Convention 2026!
DESCRIPTION:WVAR Annual Convention 2026!\nSeptember 21, 2026 - September 23, 2026

X-ALT-DESC;FMTTYPE=text/html:<!DOCTYPE HTML PUBLIC "-//W3C//DTD HTML 3.2//EN">\n<HTML>\n<HEAD>\n<META NAME="Generator" CONTENT="MS Exchange Server version 08.00.0681.000">\n<TITLE></TITLE>\n</HEAD>\n<BODY>\n<!-- Converted from text/rtf format -->\n\nWVAR Annual Convention 2026!<br />September 21, 2026 - September 23, 2026\n\n</BODY>\n</HTML>

LOCATION:Oglebay Resort Crispin Golf Course, Waddington Drive, Leewood Park, Ohio County, West Virginia, United States
END:VEVENT

END:VCALENDAR
