BEGIN:VCALENDAR
VERSION:2.0
PRODID:-//hacksw/handcal//NONSGML v1.0//EN
BEGIN:VEVENT
UID:497a64f2ba989c4c5452e52680956064
DTSTAMP:20260420T093603Z

DTSTART:20260428T090000
DTEND:20260430T170000
SUMMARY:Colorado REALTORS® Colorado Connections 2026
DESCRIPTION:Join the Colorado Association of REALTORS® for networking, education and fun at the new Hotel Polaris in Colorado Springs.  This conference will feature top speakers, CE education courses, networking opportunities, a trade show, and more.

X-ALT-DESC;FMTTYPE=text/html:<!DOCTYPE HTML PUBLIC "-//W3C//DTD HTML 3.2//EN">\n<HTML>\n<HEAD>\n<META NAME="Generator" CONTENT="MS Exchange Server version 08.00.0681.000">\n<TITLE></TITLE>\n</HEAD>\n<BODY>\n<!-- Converted from text/rtf format -->\n\nJoin the Colorado Association of REALTORS® for networking, education and fun at the new Hotel Polaris in Colorado Springs.  This conference will feature top speakers, CE education courses, networking opportunities, a trade show, and more.\n\n</BODY>\n</HTML>

LOCATION:Hotel Polaris, 8989, North Gate Boulevard, Colorado Springs, El Paso County, Colorado, 80921, United States
END:VEVENT

END:VCALENDAR
