BEGIN:VCALENDAR
VERSION:2.0
PRODID:-//hacksw/handcal//NONSGML v1.0//EN
BEGIN:VEVENT
UID:dc8f63dfe178e90960513a1aa9c197df
DTSTAMP:20260420T111854Z

DTSTART:20261005T090000
DTEND:20261007T170000
SUMMARY:Colorado REALTORS® 2026 CAR Leadership Symposium
DESCRIPTION:Join the Colorado Association of REALTORS® for networking, education and leadership training.  This conference will feature top speakers, networking opportunities, a trade show, CAR Business meetings and more.

X-ALT-DESC;FMTTYPE=text/html:<!DOCTYPE HTML PUBLIC "-//W3C//DTD HTML 3.2//EN">\n<HTML>\n<HEAD>\n<META NAME="Generator" CONTENT="MS Exchange Server version 08.00.0681.000">\n<TITLE></TITLE>\n</HEAD>\n<BODY>\n<!-- Converted from text/rtf format -->\n\nJoin the Colorado Association of REALTORS® for networking, education and leadership training.  This conference will feature top speakers, networking opportunities, a trade show, CAR Business meetings and more.\n\n</BODY>\n</HTML>

LOCATION:DoubleTree, 1775, East Cheyenne Mountain Boulevard, Colorado Springs, El Paso County, Colorado, 80906, United States
END:VEVENT

END:VCALENDAR
