BEGIN:VCALENDAR
VERSION:2.0
PRODID:-//hacksw/handcal//NONSGML v1.0//EN
BEGIN:VEVENT
UID:b5b495d426e2c6a796e76c926df94ef8
DTSTAMP:20260420T023111Z

DTSTART:20190912T100000
DTEND:20190912T120000
SUMMARY:Limitations and Expectations of a Transaction Coordinator
DESCRIPTION:Limitations and Expectations of a Transaction Coordinator is a comprehensive class designed to educate real estate Brokers on transaction coordinators. In this class you will learn the framework in which transaction coordinators need to operate and learn strategies on what to look for in hiring the right transaction coordinator. Brokers will also learn the limitations and expectations of transaction coordinators in the real estate industry, and the impact they can have in a real estate transaction. This class will assist the Broker in understanding areas where they can promote consumer protection in their business.\n\nCost- 0\nCredits- 2\n\nInstructor- Debbie Blanc\nCompany Name- Precision Transaction Management Corp.\nRoom Nae- Land Title Guarantee Company - Cascades

X-ALT-DESC;FMTTYPE=text/html:<!DOCTYPE HTML PUBLIC "-//W3C//DTD HTML 3.2//EN">\n<HTML>\n<HEAD>\n<META NAME="Generator" CONTENT="MS Exchange Server version 08.00.0681.000">\n<TITLE></TITLE>\n</HEAD>\n<BODY>\n<!-- Converted from text/rtf format -->\n\nLimitations and Expectations of a Transaction Coordinator is a comprehensive class designed to educate real estate Brokers on transaction coordinators. In this class you will learn the framework in which transaction coordinators need to operate and learn strategies on what to look for in hiring the right transaction coordinator. Brokers will also learn the limitations and expectations of transaction coordinators in the real estate industry, and the impact they can have in a real estate transaction. This class will assist the Broker in understanding areas where they can promote consumer protection in their business.<br /><br />Cost- 0<br />Credits- 2<br /><br />Instructor- Debbie Blanc<br />Company Name- Precision Transaction Management Corp.<br />Room Nae- Land Title Guarantee Company - Cascades\n\n</BODY>\n</HTML>

LOCATION:6300 S Syracuse Way #120, Englewood, CO 80111, USA
END:VEVENT

END:VCALENDAR
