BEGIN:VCALENDAR
VERSION:2.0
PRODID:-//hacksw/handcal//NONSGML v1.0//EN
BEGIN:VEVENT
UID:69e5afe47dcc976c5485d9cede6f0700
DTSTAMP:20260420T003818Z

DTSTART:20190919T090000
DTEND:20190919T110000
SUMMARY:Growing Investor Portfolio: Buy, Rehab, Rent, Refinance, Repeat
DESCRIPTION:The purpose of this class is to educate real estate agents on how their residential buyers invest in residential investment property from buying due diligence, rehabilitation, finance options, new construction options, determining value of rented property and beyond. \n\nCost- 0\nCredits-2\n\nInstructor- RICK MILLER\nCompany Name- Land Title Guarantee Company\nRoom Name- BARA (Boulder Area REALTOR Association)

X-ALT-DESC;FMTTYPE=text/html:<!DOCTYPE HTML PUBLIC "-//W3C//DTD HTML 3.2//EN">\n<HTML>\n<HEAD>\n<META NAME="Generator" CONTENT="MS Exchange Server version 08.00.0681.000">\n<TITLE></TITLE>\n</HEAD>\n<BODY>\n<!-- Converted from text/rtf format -->\n\nThe purpose of this class is to educate real estate agents on how their residential buyers invest in residential investment property from buying due diligence, rehabilitation, finance options, new construction options, determining value of rented property and beyond. <br /><br />Cost- 0<br />Credits-2<br /><br />Instructor- RICK MILLER<br />Company Name- Land Title Guarantee Company<br />Room Name- BARA (Boulder Area REALTOR Association)\n\n</BODY>\n</HTML>

LOCATION:4790 Table Mesa Dr, Boulder, CO 80305, USA
END:VEVENT

END:VCALENDAR
