BEGIN:VCALENDAR
VERSION:2.0
PRODID:-//hacksw/handcal//NONSGML v1.0//EN
BEGIN:VEVENT
UID:6c4eca5c7bab8083cf08f0c6bb71c781
DTSTAMP:20260420T110942Z

DTSTART:20260130T100000
DTEND:20260201T180000
SUMMARY:Johnson County Home + Garden Show 2026
DESCRIPTION:Adults 13+ (single day at door)  $14.00 \n\nAdults 13+ (single day online) $12.00\n\nChildren Ages 12 & Under   FREE\n\n4-PACK ONLINE: Get 4 tickets for the price of 3!\n\nDiscounted rate: $42 per 4 pack.\nTickets valid for one admission each. Valid for one day only.

X-ALT-DESC;FMTTYPE=text/html:<!DOCTYPE HTML PUBLIC "-//W3C//DTD HTML 3.2//EN">\n<HTML>\n<HEAD>\n<META NAME="Generator" CONTENT="MS Exchange Server version 08.00.0681.000">\n<TITLE></TITLE>\n</HEAD>\n<BODY>\n<!-- Converted from text/rtf format -->\n\nAdults 13+ (single day at door)  $14.00 <br /><br />Adults 13+ (single day online) $12.00<br /><br />Children Ages 12 & Under   FREE<br /><br />4-PACK ONLINE: Get 4 tickets for the price of 3!<br /><br />Discounted rate: $42 per 4 pack.<br />Tickets valid for one admission each. Valid for one day only.\n\n</BODY>\n</HTML>

LOCATION:6000, College Boulevard, Overland Park, Johnson County, Kansas, 66211, United States
END:VEVENT

END:VCALENDAR
