BEGIN:VCALENDAR
VERSION:2.0
PRODID:-//hacksw/handcal//NONSGML v1.0//EN
BEGIN:VEVENT
UID:9d47c420615b8a2d881a339c4f5815c9
DTSTAMP:20260420T092748Z

DTSTART:20260130T100000
DTEND:20260201T170000
SUMMARY:Minneapolis Home + Remodeling Show 2026
DESCRIPTION:Adults (at the door): $12.00\n\nAdults (Online): $10.00\n\nSeniors 60+ (at the door): $8.00\n\nChildren Ages 6-12 (at the door): $4.00\n\nChildren Ages 5 & Under: Free

X-ALT-DESC;FMTTYPE=text/html:<!DOCTYPE HTML PUBLIC "-//W3C//DTD HTML 3.2//EN">\n<HTML>\n<HEAD>\n<META NAME="Generator" CONTENT="MS Exchange Server version 08.00.0681.000">\n<TITLE></TITLE>\n</HEAD>\n<BODY>\n<!-- Converted from text/rtf format -->\n\nAdults (at the door): $12.00<br /><br />Adults (Online): $10.00<br /><br />Seniors 60+ (at the door): $8.00<br /><br />Children Ages 6-12 (at the door): $4.00<br /><br />Children Ages 5 & Under: Free\n\n</BODY>\n</HTML>

LOCATION:US Bank Stadium, 401, Chicago Avenue South, Minneapolis, Hennepin County, Minnesota, 55415, United States
END:VEVENT

END:VCALENDAR
