BEGIN:VCALENDAR
VERSION:2.0
PRODID:-//hacksw/handcal//NONSGML v1.0//EN
BEGIN:VEVENT
UID:453a06ca2d77a27c1ff8f3cfc89294a7
DTSTAMP:20260420T030712Z

DTSTART:20260122T093000
DTEND:20260122T120000
SUMMARY:The High Impact Open House: Strategies for Agents Who Want Results!
DESCRIPTION:In this class you will learn how to: Attract buyers and potential sellers, engage visitors for lasting connections, follow up effectively to convert leads into clients, elevate your open house game and turn foot traffic into closings!\n\n0 CE Credits $10 fully-refundable fee with attendance\n01/22/2026\n9:30 AM – 12:00 PM\nThe High Impact Open House: Strategies for Agents Who Want Results!\n7828 Vance Drive\nArvada, CO 80003\n

X-ALT-DESC;FMTTYPE=text/html:<!DOCTYPE HTML PUBLIC "-//W3C//DTD HTML 3.2//EN">\n<HTML>\n<HEAD>\n<META NAME="Generator" CONTENT="MS Exchange Server version 08.00.0681.000">\n<TITLE></TITLE>\n</HEAD>\n<BODY>\n<!-- Converted from text/rtf format -->\n\nIn this class you will learn how to: Attract buyers and potential sellers, engage visitors for lasting connections, follow up effectively to convert leads into clients, elevate your open house game and turn foot traffic into closings!<br /><br />0 CE Credits $10 fully-refundable fee with attendance<br />01/22/2026<br />9:30 AM – 12:00 PM<br />The High Impact Open House: Strategies for Agents Who Want Results!<br />7828 Vance Drive<br />Arvada, CO 80003<br />\n\n</BODY>\n</HTML>

LOCATION:7828, Vance Drive, Arvada, Jefferson County, Colorado, 80003, United States
END:VEVENT

END:VCALENDAR
