BEGIN:VCALENDAR
VERSION:2.0
PRODID:-//hacksw/handcal//NONSGML v1.0//EN
BEGIN:VEVENT
UID:e7f6889e104e4d8cc851f20b4ae6a292
DTSTAMP:20260419T230212Z

DTSTART:20260309T110000
DTEND:20260309T120000
SUMMARY:The 2026 Insurance Playbook
DESCRIPTION:What every realtor needs to know before their next offer!\n\nWhat you will learn:\n-The biggest insurance changes already impacting closings in 2026\n-New underwriting trends insurers aren’t advertising\n-Which properties are becoming harder to insure (and why)\n-How to avoid last-minute freakouts\n\n*Light refreshments provided\n\n0 CE Credit Free\n03/09/2026\n11:00 AM – 12:00 PM\nThe 2026 Insurance Playbook\nLand Title Guarantee Company\n1755 Telstar Drive suite 503\nColorado Springs, CO 80920

X-ALT-DESC;FMTTYPE=text/html:<!DOCTYPE HTML PUBLIC "-//W3C//DTD HTML 3.2//EN">\n<HTML>\n<HEAD>\n<META NAME="Generator" CONTENT="MS Exchange Server version 08.00.0681.000">\n<TITLE></TITLE>\n</HEAD>\n<BODY>\n<!-- Converted from text/rtf format -->\n\nWhat every realtor needs to know before their next offer!<br /><br />What you will learn:<br />-The biggest insurance changes already impacting closings in 2026<br />-New underwriting trends insurers aren’t advertising<br />-Which properties are becoming harder to insure (and why)<br />-How to avoid last-minute freakouts<br /><br />*Light refreshments provided<br /><br />0 CE Credit Free<br />03/09/2026<br />11:00 AM – 12:00 PM<br />The 2026 Insurance Playbook<br />Land Title Guarantee Company<br />1755 Telstar Drive suite 503<br />Colorado Springs, CO 80920\n\n</BODY>\n</HTML>

LOCATION:1755, Telstar Drive, Colorado Springs, El Paso County, Colorado, 80920, United States
END:VEVENT

END:VCALENDAR
