BEGIN:VCALENDAR
VERSION:2.0
PRODID:-//hacksw/handcal//NONSGML v1.0//EN
BEGIN:VEVENT
UID:7d36dd9e088a631ba483a5c61a70c59a
DTSTAMP:20260421T043054Z

DTSTART:20260603T070000
DTEND:20260604T190000
SUMMARY:ICC Regional Summit - Kansas City 2026
DESCRIPTION:What is the ICT Regional Summit?\nJoin the top real estate agents, team leaders, and broker-owners at the ICT Regional Summit—an exclusive event designed to equip you with the cutting-edge strategies, systems, and leadership insights needed to dominate your market.\n\nThis is not just another real estate conference. It’s a high-impact, hands-on event where you’ll gain actionable frameworks that drive results—straight from Brian Icenhower and top-performing industry leaders.\n\n🎯 Who should attend?\n✔ Real estate agents looking to scale\n✔ Team leaders aiming for sustainable growth\n✔ Brokers & owners seeking retention & profitability strategies\n\nWhat You’ll Learn\n✅ Growth & Scalability – Build a powerful team with sustainable systems\n✅ Recruiting & Retention – Attract top talent & keep them engaged\n✅ Lead Generation Mastery – Master high-converting prospecting strategies\n✅ Agent Accountability Systems – Keep your agents productive & motivated\n✅ Marketing & Branding Secrets – Leverage digital marketing to dominate your market\n✅ Exclusive Industry Insights – Stay ahead with the latest real estate trends\n\nFeatured Speakers\n🎤 Brian Icenhower – Founder of ICT\n🎤 Rick Fuller – ICT Director of Events & real estate coach\n🎤 Brian Donnally – ICT CEO & real estate coach\n🎤 More industry experts to be announced!\n\nWhy You Can’t Miss This Event\n🔥 High-Level Training: Walk away with proven strategies used by the top 1% of agents and teams.\n🔥 Exclusive Networking: Connect with like-minded professionals & industry leaders.\n🔥 Live Q&A & Workshops: Get real-time coaching and personalized insights.\n🔥 Actionable Takeaways: Implement what you learn immediately for measurable growth.\n\n

X-ALT-DESC;FMTTYPE=text/html:<!DOCTYPE HTML PUBLIC "-//W3C//DTD HTML 3.2//EN">\n<HTML>\n<HEAD>\n<META NAME="Generator" CONTENT="MS Exchange Server version 08.00.0681.000">\n<TITLE></TITLE>\n</HEAD>\n<BODY>\n<!-- Converted from text/rtf format -->\n\nWhat is the ICT Regional Summit?<br />Join the top real estate agents, team leaders, and broker-owners at the ICT Regional Summit—an exclusive event designed to equip you with the cutting-edge strategies, systems, and leadership insights needed to dominate your market.<br /><br />This is not just another real estate conference. It’s a high-impact, hands-on event where you’ll gain actionable frameworks that drive results—straight from Brian Icenhower and top-performing industry leaders.<br /><br />🎯 Who should attend?<br />✔ Real estate agents looking to scale<br />✔ Team leaders aiming for sustainable growth<br />✔ Brokers & owners seeking retention & profitability strategies<br /><br />What You’ll Learn<br />✅ Growth & Scalability – Build a powerful team with sustainable systems<br />✅ Recruiting & Retention – Attract top talent & keep them engaged<br />✅ Lead Generation Mastery – Master high-converting prospecting strategies<br />✅ Agent Accountability Systems – Keep your agents productive & motivated<br />✅ Marketing & Branding Secrets – Leverage digital marketing to dominate your market<br />✅ Exclusive Industry Insights – Stay ahead with the latest real estate trends<br /><br />Featured Speakers<br />🎤 Brian Icenhower – Founder of ICT<br />🎤 Rick Fuller – ICT Director of Events & real estate coach<br />🎤 Brian Donnally – ICT CEO & real estate coach<br />🎤 More industry experts to be announced!<br /><br />Why You Can’t Miss This Event<br />🔥 High-Level Training: Walk away with proven strategies used by the top 1% of agents and teams.<br />🔥 Exclusive Networking: Connect with like-minded professionals & industry leaders.<br />🔥 Live Q&A & Workshops: Get real-time coaching and personalized insights.<br />🔥 Actionable Takeaways: Implement what you learn immediately for measurable growth.<br /><br />\n\n</BODY>\n</HTML>

LOCATION:800, Woodswether Road, Garment District, Downtown Kansas City, Kansas City, Jackson County, Missouri, 64105, United States
END:VEVENT

END:VCALENDAR
