BEGIN:VCALENDAR
VERSION:2.0
PRODID:-//hacksw/handcal//NONSGML v1.0//EN
BEGIN:VEVENT
UID:56aafb3430c2e33c21d7da645de0d418
DTSTAMP:20260421T041643Z

DTSTART:20260420T070000
DTEND:20260422T190000
SUMMARY:eXpcon Vancouver 2026
DESCRIPTION:Let's be real: the world of real estate is changing fast. You can either watch it happen from the sidelines or get in the room where the real moves are made. eXpcon Vancouver is our time to reconnect, recharge, and get ahead of what's next. The tools, the tech, and the people you need to know to grow your business with intention.\n\nDon't just follow the pace, come set it.

X-ALT-DESC;FMTTYPE=text/html:<!DOCTYPE HTML PUBLIC "-//W3C//DTD HTML 3.2//EN">\n<HTML>\n<HEAD>\n<META NAME="Generator" CONTENT="MS Exchange Server version 08.00.0681.000">\n<TITLE></TITLE>\n</HEAD>\n<BODY>\n<!-- Converted from text/rtf format -->\n\nLet's be real: the world of real estate is changing fast. You can either watch it happen from the sidelines or get in the room where the real moves are made. eXpcon Vancouver is our time to reconnect, recharge, and get ahead of what's next. The tools, the tech, and the people you need to know to grow your business with intention.<br /><br />Don't just follow the pace, come set it.\n\n</BODY>\n</HTML>

LOCATION:JW Marriott parq Vancouver, 39, Smithe Street, Yaletown, Downtown, Vancouver, Metro Vancouver Regional District, British Columbia, V6B, V6B 0R3, Canada
END:VEVENT

END:VCALENDAR
