BEGIN:VCALENDAR
VERSION:2.0
PRODID:-//hacksw/handcal//NONSGML v1.0//EN
BEGIN:VEVENT
UID:720ed0a53ea8cf78b2d368c7578422f1
DTSTAMP:20260420T164529Z

DTSTART:20260831T090000
DTEND:20260831T170000
SUMMARY:Indiana Realtors Fall Conference 2026
DESCRIPTION:The Fall Conference is our yearly all-member event in Downtown Indianapolis, bringing together members from all 23 local associations for a day of inspiring content, market insights, and updates on IAR services.\n\nConference registration includes light breakfast, lunch, and access to multiple additional networking events and engagement opportunities.

X-ALT-DESC;FMTTYPE=text/html:<!DOCTYPE HTML PUBLIC "-//W3C//DTD HTML 3.2//EN">\n<HTML>\n<HEAD>\n<META NAME="Generator" CONTENT="MS Exchange Server version 08.00.0681.000">\n<TITLE></TITLE>\n</HEAD>\n<BODY>\n<!-- Converted from text/rtf format -->\n\nThe Fall Conference is our yearly all-member event in Downtown Indianapolis, bringing together members from all 23 local associations for a day of inspiring content, market insights, and updates on IAR services.<br /><br />Conference registration includes light breakfast, lunch, and access to multiple additional networking events and engagement opportunities.\n\n</BODY>\n</HTML>

LOCATION:Hyatt Regency Indianapolis, 101, West Washington Street, Indianapolis, Marion, Indiana, 46204, United States
END:VEVENT

END:VCALENDAR
