BEGIN:VCALENDAR
VERSION:2.0
PRODID:-//hacksw/handcal//NONSGML v1.0//EN
BEGIN:VEVENT
UID:53a458ae57d5a4f06ac7bc7a98380969
DTSTAMP:20260420T174042Z

DTSTART:20260505T120000
DTEND:20260505T133000
SUMMARY:Behind the Appraisal: What Realtors Should Know About Value
DESCRIPTION:0 CE Credit Free\n05/05/2026\n12:00 PM – 1:30 PM\n\nBehind the Appraisal: What Realtors Should Know About Value\nEnt Headquarters\n11550 Ent Parkway\nColorado Springs, CO 80921

X-ALT-DESC;FMTTYPE=text/html:<!DOCTYPE HTML PUBLIC "-//W3C//DTD HTML 3.2//EN">\n<HTML>\n<HEAD>\n<META NAME="Generator" CONTENT="MS Exchange Server version 08.00.0681.000">\n<TITLE></TITLE>\n</HEAD>\n<BODY>\n<!-- Converted from text/rtf format -->\n\n0 CE Credit Free<br />05/05/2026<br />12:00 PM – 1:30 PM<br /><br />Behind the Appraisal: What Realtors Should Know About Value<br />Ent Headquarters<br />11550 Ent Parkway<br />Colorado Springs, CO 80921\n\n</BODY>\n</HTML>

LOCATION:Ent Credit Union Headquarters, 11550, Ent Parkway, Colorado Springs, El Paso County, Colorado, 80921, United States
END:VEVENT

END:VCALENDAR
