BEGIN:VCALENDAR
VERSION:2.0
PRODID:-//hacksw/handcal//NONSGML v1.0//EN
BEGIN:VEVENT
UID:64d85c2198903562962ce0d2079d2749
DTSTAMP:20260421T141239Z

DTSTART:20261007T090000
DTEND:20261008T170000
SUMMARY:Realtors® UNITE! 2026 Minnesota State Convention
DESCRIPTION:Real Impact.\nScore can’t-miss insights, tools, and strategies to energize your business — all under one roof.\n\nBuild Your Network.\nMeetup with the who’s who of the Minnesota real estate community and make lasting connections with your peers.\n\nBig Time Speakers.\nFrom powerhouse keynotes to tactical breakouts, you'll walk away with fresh ideas, not fluff.\n\nGet CE Credits.\nRealtors earned® up to 7 CE credits at least year's UNITE! convention. That's a lot of CE!

X-ALT-DESC;FMTTYPE=text/html:<!DOCTYPE HTML PUBLIC "-//W3C//DTD HTML 3.2//EN">\n<HTML>\n<HEAD>\n<META NAME="Generator" CONTENT="MS Exchange Server version 08.00.0681.000">\n<TITLE></TITLE>\n</HEAD>\n<BODY>\n<!-- Converted from text/rtf format -->\n\nReal Impact.<br />Score can’t-miss insights, tools, and strategies to energize your business — all under one roof.<br /><br />Build Your Network.<br />Meetup with the who’s who of the Minnesota real estate community and make lasting connections with your peers.<br /><br />Big Time Speakers.<br />From powerhouse keynotes to tactical breakouts, you'll walk away with fresh ideas, not fluff.<br /><br />Get CE Credits.<br />Realtors earned® up to 7 CE credits at least year's UNITE! convention. That's a lot of CE!\n\n</BODY>\n</HTML>

LOCATION:Brooklyn Park, Hennepin County, Minnesota, United States
END:VEVENT

END:VCALENDAR
