BEGIN:VCALENDAR
VERSION:2.0
PRODID:-//hacksw/handcal//NONSGML v1.0//EN
BEGIN:VEVENT
UID:db570702056cc0ef3aae6d3f3687f00a
DTSTAMP:20260421T141241Z

DTSTART:20260827T090000
DTEND:20260827T170000
SUMMARY:Indiana Housing Conference 2026
DESCRIPTION:Time & Location\nAug 27, 2025, 9:00 AM – Aug 28, 2025, 5:00 PM\n\nIndianapolis Marriott Downtown, 350 W Maryland St, Indianapolis, IN 46225, USA

X-ALT-DESC;FMTTYPE=text/html:<!DOCTYPE HTML PUBLIC "-//W3C//DTD HTML 3.2//EN">\n<HTML>\n<HEAD>\n<META NAME="Generator" CONTENT="MS Exchange Server version 08.00.0681.000">\n<TITLE></TITLE>\n</HEAD>\n<BODY>\n<!-- Converted from text/rtf format -->\n\nTime & Location<br />Aug 27, 2025, 9:00 AM – Aug 28, 2025, 5:00 PM<br /><br />Indianapolis Marriott Downtown, 350 W Maryland St, Indianapolis, IN 46225, USA\n\n</BODY>\n</HTML>

LOCATION:Marriott Indianapolis Downtown, 350, West Maryland Street, Indianapolis, Marion, Indiana, 46204, United States
END:VEVENT

END:VCALENDAR
