BEGIN:VCALENDAR
VERSION:2.0
PRODID:-//hacksw/handcal//NONSGML v1.0//EN
BEGIN:VEVENT
UID:07dd428b915e905f626927a5e47335ae
DTSTAMP:20260422T010837Z

DTSTART:20260504T130000
DTEND:20260504T170000
SUMMARY:2026 Colorado Real Estate Commission Update Webinar
DESCRIPTION:2026 Colorado Real Estate Commission Update Webinar\nMonday, May 4, 2026 1:00 PM – 5:00 PM\nPresented by Jeff Harnish of Colorado Prime Realty\n\n4 CE/ $40 Per Person\nThis is the mandatory 4 CE Annual Commission Update class is required annually for every licensed Colorado agent. The webinar provides the latest updates for 2026. After registering, you will be provided with a Microsoft Teams Webinar link one day prior to the webinar date.

X-ALT-DESC;FMTTYPE=text/html:<!DOCTYPE HTML PUBLIC "-//W3C//DTD HTML 3.2//EN">\n<HTML>\n<HEAD>\n<META NAME="Generator" CONTENT="MS Exchange Server version 08.00.0681.000">\n<TITLE></TITLE>\n</HEAD>\n<BODY>\n<!-- Converted from text/rtf format -->\n\n2026 Colorado Real Estate Commission Update Webinar<br />Monday, May 4, 2026 1:00 PM – 5:00 PM<br />Presented by Jeff Harnish of Colorado Prime Realty<br /><br />4 CE/ $40 Per Person<br />This is the mandatory 4 CE Annual Commission Update class is required annually for every licensed Colorado agent. The webinar provides the latest updates for 2026. After registering, you will be provided with a Microsoft Teams Webinar link one day prior to the webinar date.\n\n</BODY>\n</HTML>

LOCATION:
END:VEVENT

END:VCALENDAR
