BEGIN:VCALENDAR
VERSION:2.0
PRODID:-//hacksw/handcal//NONSGML v1.0//EN
BEGIN:VEVENT
UID:957a08b72424ce4a2f62fe4e93c06a16
DTSTAMP:20260422T192525Z

DTSTART:20260927T090000
DTEND:20260928T170000
SUMMARY:Georgia Realtors 2026 Broker Summit
DESCRIPTION:The 2026 Broker Summit will take place September 27-28 at Signia Hotel, located at 159 Northside Dr. NW Atlanta, GA 30313\n\nBe on the lookout for information on speakers, topics and registration in Summer 2026.

X-ALT-DESC;FMTTYPE=text/html:<!DOCTYPE HTML PUBLIC "-//W3C//DTD HTML 3.2//EN">\n<HTML>\n<HEAD>\n<META NAME="Generator" CONTENT="MS Exchange Server version 08.00.0681.000">\n<TITLE></TITLE>\n</HEAD>\n<BODY>\n<!-- Converted from text/rtf format -->\n\nThe 2026 Broker Summit will take place September 27-28 at Signia Hotel, located at 159 Northside Dr. NW Atlanta, GA 30313<br /><br />Be on the lookout for information on speakers, topics and registration in Summer 2026.\n\n</BODY>\n</HTML>

LOCATION:59, Northside Drive Northwest, Atlanta, Fulton County, Georgia, 30314, United States
END:VEVENT

END:VCALENDAR
