BEGIN:VCALENDAR
VERSION:2.0
PRODID:-//hacksw/handcal//NONSGML v1.0//EN
BEGIN:VEVENT
UID:bf552b9cf4f69a6bda8edb051fcb3449
DTSTAMP:20260423T192153Z

DTSTART:20261019T090000
DTEND:20261021T170000
SUMMARY:At REAL: Oklahoma REALTORS® Annual Conference 2026
DESCRIPTION:Get ready to get REAL.\nAt REAL: Oklahoma REALTORS® Annual Conference, REALTORS® come together to ignite real growth, real connections, and real impact. This is your space to level up—whether you're building your first deal or scaling a thriving business, REAL is where you build yourself, build your business, and build your future. 

X-ALT-DESC;FMTTYPE=text/html:<!DOCTYPE HTML PUBLIC "-//W3C//DTD HTML 3.2//EN">\n<HTML>\n<HEAD>\n<META NAME="Generator" CONTENT="MS Exchange Server version 08.00.0681.000">\n<TITLE></TITLE>\n</HEAD>\n<BODY>\n<!-- Converted from text/rtf format -->\n\nGet ready to get REAL.<br />At REAL: Oklahoma REALTORS® Annual Conference, REALTORS® come together to ignite real growth, real connections, and real impact. This is your space to level up—whether you're building your first deal or scaling a thriving business, REAL is where you build yourself, build your business, and build your future. \n\n</BODY>\n</HTML>

LOCATION:Okana Resort & Indoor Waterpark, Eagle Lake Trail, Oklahoma City, Oklahoma County, Oklahoma, 73117, United States
END:VEVENT

END:VCALENDAR
