BEGIN:VCALENDAR
VERSION:2.0
PRODID:-//hacksw/handcal//NONSGML v1.0//EN
BEGIN:VEVENT
UID:e1bf5a4af7dc4d23cedb255fd9691472
DTSTAMP:20260423T193447Z

DTSTART:20260513T090000
DTEND:20260513T170000
SUMMARY:REALTORS® at the Rotunda 2026
DESCRIPTION:This premier event presents an amazing opportunity to network with lawmakers, gain valuable insights into the latest policies and programs affecting the real estate industry, and learn how you can contribute to advancing private property rights in Ohio.\n\nThis content is copyright 2026 Ohio REALTORS. Read more at: https://www.ohiorealtors.org/realtors-at-the-rotunda/

X-ALT-DESC;FMTTYPE=text/html:<!DOCTYPE HTML PUBLIC "-//W3C//DTD HTML 3.2//EN">\n<HTML>\n<HEAD>\n<META NAME="Generator" CONTENT="MS Exchange Server version 08.00.0681.000">\n<TITLE></TITLE>\n</HEAD>\n<BODY>\n<!-- Converted from text/rtf format -->\n\nThis premier event presents an amazing opportunity to network with lawmakers, gain valuable insights into the latest policies and programs affecting the real estate industry, and learn how you can contribute to advancing private property rights in Ohio.<br /><br />This content is copyright 2026 Ohio REALTORS. Read more at: https://www.ohiorealtors.org/realtors-at-the-rotunda/\n\n</BODY>\n</HTML>

LOCATION:Statehouse Court, Sugarcreek Township, Greene County, Ohio, 45305, United States
END:VEVENT

END:VCALENDAR
