BEGIN:VCALENDAR
VERSION:2.0
PRODID:-//hacksw/handcal//NONSGML v1.0//EN
BEGIN:VEVENT
UID:ca1d0b3bb8fb168b51a6dba1eda5d79f
DTSTAMP:20260423T202952Z

DTSTART:20260506T100000
DTEND:20260506T120000
SUMMARY:The All In One Loan - May 6
DESCRIPTION:Wednesday, May 6, 2026 10:00AM-12:00PM\nInstructor Mike Sherer of CMG Home Loans\n2 CE/ No Cost\n\nReimagine the traditional mortgage with the All In One Home Loan (interest paid overtakes interest rate)\nThe persistent higher interest rates have created a certain level of fear and hesitation in many home buyers. In this 2 CE class, we will dive into a truly unique mortgage product that can dramatically change the way your clients view their buying power and alleviate those fears! The All-In-One Mortgage is a loan your clients have probably never heard of, but it is one that everyone should know about. With the All In One Home Loan, interest paid overtakes interest rate. And the money you saved discounts the interest charged on your home loan.

X-ALT-DESC;FMTTYPE=text/html:<!DOCTYPE HTML PUBLIC "-//W3C//DTD HTML 3.2//EN">\n<HTML>\n<HEAD>\n<META NAME="Generator" CONTENT="MS Exchange Server version 08.00.0681.000">\n<TITLE></TITLE>\n</HEAD>\n<BODY>\n<!-- Converted from text/rtf format -->\n\nWednesday, May 6, 2026 10:00AM-12:00PM<br />Instructor Mike Sherer of CMG Home Loans<br />2 CE/ No Cost<br /><br />Reimagine the traditional mortgage with the All In One Home Loan (interest paid overtakes interest rate)<br />The persistent higher interest rates have created a certain level of fear and hesitation in many home buyers. In this 2 CE class, we will dive into a truly unique mortgage product that can dramatically change the way your clients view their buying power and alleviate those fears! The All-In-One Mortgage is a loan your clients have probably never heard of, but it is one that everyone should know about. With the All In One Home Loan, interest paid overtakes interest rate. And the money you saved discounts the interest charged on your home loan.\n\n</BODY>\n</HTML>

LOCATION:
END:VEVENT

END:VCALENDAR
