BEGIN:VCALENDAR
VERSION:2.0
PRODID:-//hacksw/handcal//NONSGML v1.0//EN
BEGIN:VEVENT
UID:28abe0b5f78e6594de527ee8b9e03561
DTSTAMP:20260424T200727Z

DTSTART:20260513T073000
DTEND:20260514T130000
SUMMARY:2026 Spring Into Action Legislative Conference
DESCRIPTION:The Spring Into Action Legislative Conference is May 13-14. The conference brings you REALTOR® Day on Wednesday, May 13, featuring back-to-back activities, CE sessions and networking opportunities with your Legislators. On Thursday, May 14, governance meetings will be held. \n\nRegister for the pre-conference AI Powered Real Estate Professional Certification Course (May 12) and be sure to add a ticket to the LARPAC "Denim and Diamonds" fundraiser (May 12) to your conference registration!

X-ALT-DESC;FMTTYPE=text/html:<!DOCTYPE HTML PUBLIC "-//W3C//DTD HTML 3.2//EN">\n<HTML>\n<HEAD>\n<META NAME="Generator" CONTENT="MS Exchange Server version 08.00.0681.000">\n<TITLE></TITLE>\n</HEAD>\n<BODY>\n<!-- Converted from text/rtf format -->\n\nThe Spring Into Action Legislative Conference is May 13-14. The conference brings you REALTOR® Day on Wednesday, May 13, featuring back-to-back activities, CE sessions and networking opportunities with your Legislators. On Thursday, May 14, governance meetings will be held. <br /><br />Register for the pre-conference AI Powered Real Estate Professional Certification Course (May 12) and be sure to add a ticket to the LARPAC "Denim and Diamonds" fundraiser (May 12) to your conference registration!\n\n</BODY>\n</HTML>

LOCATION:Louisiana, United States
END:VEVENT

END:VCALENDAR
