BEGIN:VCALENDAR
VERSION:2.0
PRODID:-//hacksw/handcal//NONSGML v1.0//EN
BEGIN:VEVENT
UID:0f5c5750031c9a3d086e20b4efcb9f9a
DTSTAMP:20260424T200915Z

DTSTART:20260507T090000
DTEND:20260507T130000
SUMMARY:2026 Annual Commission Update Webinar - May 7
DESCRIPTION:Thursday, May 7th, 2026 9:00AM-1:00PM\nInstructor Beth Anne Demeter of The Educated Agent\n4 CE/ $40 Per Person\n\nThis mandatory 4 CE Annual Commission Update class is required annually for every licensed Colorado agent. The webinar provides the latest updates for 2026. After registering, you will be provided with a Zoom link one day prior to the webinar date.

X-ALT-DESC;FMTTYPE=text/html:<!DOCTYPE HTML PUBLIC "-//W3C//DTD HTML 3.2//EN">\n<HTML>\n<HEAD>\n<META NAME="Generator" CONTENT="MS Exchange Server version 08.00.0681.000">\n<TITLE></TITLE>\n</HEAD>\n<BODY>\n<!-- Converted from text/rtf format -->\n\nThursday, May 7th, 2026 9:00AM-1:00PM<br />Instructor Beth Anne Demeter of The Educated Agent<br />4 CE/ $40 Per Person<br /><br />This mandatory 4 CE Annual Commission Update class is required annually for every licensed Colorado agent. The webinar provides the latest updates for 2026. After registering, you will be provided with a Zoom link one day prior to the webinar date.\n\n</BODY>\n</HTML>

LOCATION:
END:VEVENT

END:VCALENDAR
