BEGIN:VCALENDAR
VERSION:2.0
PRODID:-//hacksw/handcal//NONSGML v1.0//EN
BEGIN:VEVENT
UID:5468dde02f6674519fadca595a4c14c3
DTSTAMP:20260420T085205Z

DTSTART:20191101T093000
DTEND:20191101T120000
SUMMARY:Beating the iBuyer: How to Win in the Age of Instant Offers
DESCRIPTION:This terrific class on the iBuyer phenomenon will help you understand the different iBuyer companies and their offerings, and will help you to build the skills necessary to compete in this new chapter in real estate.\n\nCost- $25\nCredits- 2\n\nInstructor- BRUCE GARDNER\nCompany Name- Mastery Inc.\nRoom Name- Land Title Guarantee Company - Cascades\n

X-ALT-DESC;FMTTYPE=text/html:<!DOCTYPE HTML PUBLIC "-//W3C//DTD HTML 3.2//EN">\n<HTML>\n<HEAD>\n<META NAME="Generator" CONTENT="MS Exchange Server version 08.00.0681.000">\n<TITLE></TITLE>\n</HEAD>\n<BODY>\n<!-- Converted from text/rtf format -->\n\nThis terrific class on the iBuyer phenomenon will help you understand the different iBuyer companies and their offerings, and will help you to build the skills necessary to compete in this new chapter in real estate.<br /><br />Cost- $25<br />Credits- 2<br /><br />Instructor- BRUCE GARDNER<br />Company Name- Mastery Inc.<br />Room Name- Land Title Guarantee Company - Cascades<br />\n\n</BODY>\n</HTML>

LOCATION:6300 S Syracuse Way #120, Englewood, CO 80111, USA
END:VEVENT

END:VCALENDAR
