BEGIN:VCALENDAR
VERSION:2.0
PRODID:-//hacksw/handcal//NONSGML v1.0//EN
BEGIN:VEVENT
UID:75fb9f2b9540087c566d3083f72bfaa2
DTSTAMP:20260420T120342Z

DTSTART:20191103T130000
DTEND:20191103T143000
SUMMARY:The Power Series, The Power of Commitment
DESCRIPTION:The Power of Commitment deals with maximizing potential and peak performances. All professionals in all industries would dramatically raise their levels of success when they understand and adopt the power of commitment. The power of commitment teaches what a commitment is, what it does, how to activate a commitment and how to apply your renewed commitment to the growth of your life and business. Commitment isn't merely a factor to success; commitment is the reason we succeed! \n\nCommitment = Results

X-ALT-DESC;FMTTYPE=text/html:<!DOCTYPE HTML PUBLIC "-//W3C//DTD HTML 3.2//EN">\n<HTML>\n<HEAD>\n<META NAME="Generator" CONTENT="MS Exchange Server version 08.00.0681.000">\n<TITLE></TITLE>\n</HEAD>\n<BODY>\n<!-- Converted from text/rtf format -->\n\nThe Power of Commitment deals with maximizing potential and peak performances. All professionals in all industries would dramatically raise their levels of success when they understand and adopt the power of commitment. The power of commitment teaches what a commitment is, what it does, how to activate a commitment and how to apply your renewed commitment to the growth of your life and business. Commitment isn't merely a factor to success; commitment is the reason we succeed! <br /><br />Commitment = Results\n\n</BODY>\n</HTML>

LOCATION:350 Indiana St suite 730, Golden, CO 80401, USA
END:VEVENT

END:VCALENDAR
