BEGIN:VCALENDAR
VERSION:2.0
PRODID:-//hacksw/handcal//NONSGML v1.0//EN
BEGIN:VEVENT
UID:77ead86df156231bbd20eb9ef2b7438c
DTSTAMP:20260420T025044Z

DTSTART:20191205T090000
DTEND:20191205T130000
SUMMARY:2019 Annual Commission Update - Golden
DESCRIPTION:The Colorado Real Estate Commission’s Annual Commission Update Course is required every year to maintain an active license in the State of Colorado. This years’ course offers information on topics such as compliance issues, general practice issues, new regulations, & resources; just to name a few. 

X-ALT-DESC;FMTTYPE=text/html:<!DOCTYPE HTML PUBLIC "-//W3C//DTD HTML 3.2//EN">\n<HTML>\n<HEAD>\n<META NAME="Generator" CONTENT="MS Exchange Server version 08.00.0681.000">\n<TITLE></TITLE>\n</HEAD>\n<BODY>\n<!-- Converted from text/rtf format -->\n\nThe Colorado Real Estate Commission’s Annual Commission Update Course is required every year to maintain an active license in the State of Colorado. This years’ course offers information on topics such as compliance issues, general practice issues, new regulations, & resources; just to name a few. \n\n</BODY>\n</HTML>

LOCATION:350 Indiana St suite 730, Golden, CO 80401, USA
END:VEVENT

END:VCALENDAR
