BEGIN:VCALENDAR
VERSION:2.0
PRODID:-//hacksw/handcal//NONSGML v1.0//EN
BEGIN:VEVENT
UID:9c2fc4672d2ba2056e76809d19b90f41
DTSTAMP:20260419T181502Z

DTSTART:20200114T130000
DTEND:20200114T150000
SUMMARY:Working with Buyers
DESCRIPTION:Part of our RUNNING START series for newer agents, and it never hurts to brush up on the basics! \\n\nThis class goes over the buyer process, how to prepare for and conduct a buyer’s consultation and why it’s important to do one. We will also go over tips and strategies for scheduling and conducting showings.

X-ALT-DESC;FMTTYPE=text/html:<!DOCTYPE HTML PUBLIC "-//W3C//DTD HTML 3.2//EN">\n<HTML>\n<HEAD>\n<META NAME="Generator" CONTENT="MS Exchange Server version 08.00.0681.000">\n<TITLE></TITLE>\n</HEAD>\n<BODY>\n<!-- Converted from text/rtf format -->\n\nPart of our RUNNING START series for newer agents, and it never hurts to brush up on the basics! \<br /><br />This class goes over the buyer process, how to prepare for and conduct a buyer’s consultation and why it’s important to do one. We will also go over tips and strategies for scheduling and conducting showings.\n\n</BODY>\n</HTML>

LOCATION:2755 S Locust St #150, Denver, CO 80222, USA
END:VEVENT

END:VCALENDAR
