BEGIN:VCALENDAR
VERSION:2.0
PRODID:-//hacksw/handcal//NONSGML v1.0//EN
BEGIN:VEVENT
UID:66d7fac1fa3df4dc41ca2ba0b70b9a55
DTSTAMP:20260420T003729Z

DTSTART:20200308T170000
DTEND:20200308T220000
SUMMARY:240 Union Dinner & Silent Auction - Benefiting Ralston House
DESCRIPTION:$125 per person \nBusiness Cocktail Attire ​\n\n Electronic bidding will be used at this year's 240 Union Dinner.  In order to participate in the silent auction, each participant will need to supply his or her email address and cell phone number.  If you are purchasing tickets for more than yourself, you will be asked to provide this information during the pre-registration process. Thank you! ​ \n\nTo reserve your ticket / table please contact Jennifer Kemps, jkemps@ralstonhouse.org Photos from previous 240 Union dinner

X-ALT-DESC;FMTTYPE=text/html:<!DOCTYPE HTML PUBLIC "-//W3C//DTD HTML 3.2//EN">\n<HTML>\n<HEAD>\n<META NAME="Generator" CONTENT="MS Exchange Server version 08.00.0681.000">\n<TITLE></TITLE>\n</HEAD>\n<BODY>\n<!-- Converted from text/rtf format -->\n\n$125 per person <br />Business Cocktail Attire ​<br /><br /> Electronic bidding will be used at this year's 240 Union Dinner.  In order to participate in the silent auction, each participant will need to supply his or her email address and cell phone number.  If you are purchasing tickets for more than yourself, you will be asked to provide this information during the pre-registration process. Thank you! ​ <br /><br />To reserve your ticket / table please contact Jennifer Kemps, jkemps@ralstonhouse.org Photos from previous 240 Union dinner\n\n</BODY>\n</HTML>

LOCATION:240 Union Blvd, Lakewood, CO 80228, USA
END:VEVENT

END:VCALENDAR
