BEGIN:VCALENDAR
VERSION:2.0
PRODID:-//hacksw/handcal//NONSGML v1.0//EN
BEGIN:VEVENT
UID:32935510af27d52075206c614825d76b
DTSTAMP:20260420T022938Z

DTSTART:20200311T163000
DTEND:20200311T183000
SUMMARY:Builders for Babies - Kickoff Event
DESCRIPTION:Join us for happy hour to learn about the new and exciting changes that will take place at our 3rd Annual Builders for Babies Event! Light appetizers and drink tickets will be provided for guests. \n\nTogether, we can provide relief to families in need and strengthen our community.

X-ALT-DESC;FMTTYPE=text/html:<!DOCTYPE HTML PUBLIC "-//W3C//DTD HTML 3.2//EN">\n<HTML>\n<HEAD>\n<META NAME="Generator" CONTENT="MS Exchange Server version 08.00.0681.000">\n<TITLE></TITLE>\n</HEAD>\n<BODY>\n<!-- Converted from text/rtf format -->\n\nJoin us for happy hour to learn about the new and exciting changes that will take place at our 3rd Annual Builders for Babies Event! Light appetizers and drink tickets will be provided for guests. <br /><br />Together, we can provide relief to families in need and strengthen our community.\n\n</BODY>\n</HTML>

LOCATION:2920 Brewery Ln, Littleton, CO 80120, USA
END:VEVENT

END:VCALENDAR
