BEGIN:VCALENDAR
VERSION:2.0
PRODID:-//hacksw/handcal//NONSGML v1.0//EN
BEGIN:VEVENT
UID:7638415fb0c9f74c369051c28079ae62
DTSTAMP:20260420T052128Z

DTSTART:20200303T130000
DTEND:20200303T143000
SUMMARY:Seller Financing and Subject-To and Wrap Mortgages
DESCRIPTION:Selling with seller finance can involve a myriad of structures, from a straight owner carry loan, to wrap deeds of trust, contract for deed, and lease options. This class will focus on the advanced structures of "subject to" wraps, and contract for deed.\n\n*Registration Required* \nDue to limited seating, you must register in advance for this event. \nThank you!

X-ALT-DESC;FMTTYPE=text/html:<!DOCTYPE HTML PUBLIC "-//W3C//DTD HTML 3.2//EN">\n<HTML>\n<HEAD>\n<META NAME="Generator" CONTENT="MS Exchange Server version 08.00.0681.000">\n<TITLE></TITLE>\n</HEAD>\n<BODY>\n<!-- Converted from text/rtf format -->\n\nSelling with seller finance can involve a myriad of structures, from a straight owner carry loan, to wrap deeds of trust, contract for deed, and lease options. This class will focus on the advanced structures of "subject to" wraps, and contract for deed.<br /><br />*Registration Required* <br />Due to limited seating, you must register in advance for this event. <br />Thank you!\n\n</BODY>\n</HTML>

LOCATION:2755 S Locust St, Denver, CO 80222, USA
END:VEVENT

END:VCALENDAR
