BEGIN:VCALENDAR
VERSION:2.0
PRODID:-//hacksw/handcal//NONSGML v1.0//EN
BEGIN:VEVENT
UID:7e3e2b173c660c0bb619250090b75c49
DTSTAMP:20260419T225923Z

DTSTART:20200508T100000
DTEND:20201031T100000
SUMMARY:GRI: Ethics & Professional Practice For REALTORS #9152 - Online
DESCRIPTION:The ethical considerations relating to the new role of transaction broker, and for buyer agents, have mandated changes in the NAR Code of Ethics. Since 1995, the National Association of REALTORS® has continued to revise and expand the Code of Ethics. Every REALTOR® is required to complete minimum Ethics training every four years as mandated by NAR.\n\nCE Credits - 4 Hours\nEBook - $5\nDiscount Price - $35

X-ALT-DESC;FMTTYPE=text/html:<!DOCTYPE HTML PUBLIC "-//W3C//DTD HTML 3.2//EN">\n<HTML>\n<HEAD>\n<META NAME="Generator" CONTENT="MS Exchange Server version 08.00.0681.000">\n<TITLE></TITLE>\n</HEAD>\n<BODY>\n<!-- Converted from text/rtf format -->\n\nThe ethical considerations relating to the new role of transaction broker, and for buyer agents, have mandated changes in the NAR Code of Ethics. Since 1995, the National Association of REALTORS® has continued to revise and expand the Code of Ethics. Every REALTOR® is required to complete minimum Ethics training every four years as mandated by NAR.<br /><br />CE Credits - 4 Hours<br />EBook - $5<br />Discount Price - $35\n\n</BODY>\n</HTML>

LOCATION:
END:VEVENT

END:VCALENDAR
