BEGIN:VCALENDAR
VERSION:2.0
PRODID:-//hacksw/handcal//NONSGML v1.0//EN
BEGIN:VEVENT
UID:3b48c76093f52d761ec546a230c2bd85
DTSTAMP:20260419T195730Z

DTSTART:20200511T120000
DTEND:20201031T120000
SUMMARY:Basic Residential Investment #10356 - Online
DESCRIPTION:This course will teach you how to judge residential investments by learning how to create and compare Internal Rate of Returns. Students will also be introduced to investment analysis strategies.\n\nCE Credits - 6\nEBook - $5\nPrice- $42

X-ALT-DESC;FMTTYPE=text/html:<!DOCTYPE HTML PUBLIC "-//W3C//DTD HTML 3.2//EN">\n<HTML>\n<HEAD>\n<META NAME="Generator" CONTENT="MS Exchange Server version 08.00.0681.000">\n<TITLE></TITLE>\n</HEAD>\n<BODY>\n<!-- Converted from text/rtf format -->\n\nThis course will teach you how to judge residential investments by learning how to create and compare Internal Rate of Returns. Students will also be introduced to investment analysis strategies.<br /><br />CE Credits - 6<br />EBook - $5<br />Price- $42\n\n</BODY>\n</HTML>

LOCATION:
END:VEVENT

END:VCALENDAR
