BEGIN:VCALENDAR
VERSION:2.0
PRODID:-//hacksw/handcal//NONSGML v1.0//EN
BEGIN:VEVENT
UID:5dd5bc8157c2f791cf2d49de03b5bcb1
DTSTAMP:20260420T051624Z

DTSTART:20200513T130000
DTEND:20201031T130000
SUMMARY:Broker Refresher Course (Employing) #EBR-2018 - Online
DESCRIPTION:This course is designed to address necessary competencies all Employing Brokers must practice. The course is required for those who upgraded prior to 2018 and do not meet the 50 point requirements.\n\nCE Credits - 6 Hours \nEBook -  $5\nCost - $69

X-ALT-DESC;FMTTYPE=text/html:<!DOCTYPE HTML PUBLIC "-//W3C//DTD HTML 3.2//EN">\n<HTML>\n<HEAD>\n<META NAME="Generator" CONTENT="MS Exchange Server version 08.00.0681.000">\n<TITLE></TITLE>\n</HEAD>\n<BODY>\n<!-- Converted from text/rtf format -->\n\nThis course is designed to address necessary competencies all Employing Brokers must practice. The course is required for those who upgraded prior to 2018 and do not meet the 50 point requirements.<br /><br />CE Credits - 6 Hours <br />EBook -  $5<br />Cost - $69\n\n</BODY>\n</HTML>

LOCATION:
END:VEVENT

END:VCALENDAR
