BEGIN:VCALENDAR
VERSION:2.0
PRODID:-//hacksw/handcal//NONSGML v1.0//EN
BEGIN:VEVENT
UID:2ccddf340b019cac7e63cbe4cc59b7c4
DTSTAMP:20260420T024938Z

DTSTART:20200519T120000
DTEND:20201031T120000
SUMMARY:Economics & Demographics (for Real Estate Agents) #10280 - Online
DESCRIPTION:Understanding how economic and population changes affect real estate.\n\nThis course introduces the student to the principles of economic and demographic analysis, including economic base analysis, market economies, computer modeling techniques, components of population change, demographic concepts and methods used in population projection.\n\nCE Credits - 4\nEBook - $5\nCost - $32

X-ALT-DESC;FMTTYPE=text/html:<!DOCTYPE HTML PUBLIC "-//W3C//DTD HTML 3.2//EN">\n<HTML>\n<HEAD>\n<META NAME="Generator" CONTENT="MS Exchange Server version 08.00.0681.000">\n<TITLE></TITLE>\n</HEAD>\n<BODY>\n<!-- Converted from text/rtf format -->\n\nUnderstanding how economic and population changes affect real estate.<br /><br />This course introduces the student to the principles of economic and demographic analysis, including economic base analysis, market economies, computer modeling techniques, components of population change, demographic concepts and methods used in population projection.<br /><br />CE Credits - 4<br />EBook - $5<br />Cost - $32\n\n</BODY>\n</HTML>

LOCATION:
END:VEVENT

END:VCALENDAR
