BEGIN:VCALENDAR
VERSION:2.0
PRODID:-//hacksw/handcal//NONSGML v1.0//EN
BEGIN:VEVENT
UID:daaf825f265ae27fed5bdbc3a8a9d66f
DTSTAMP:20260420T043513Z

DTSTART:20200527T110000
DTEND:20201031T110000
SUMMARY:GRI: Fair Housing, Diversity & Inclusion #9135 - Onile
DESCRIPTION:A real estate licensee’s awareness of federal fair housing laws and sensitivity to consumer diversity is vital to business success, reputation, and growth. Licensees will learn why it is necessary to understand fair housing laws and the impact that both fair housing and diversity have on their business.\n\nCE Credits - 4 \nEBook - $5\nCost - $35

X-ALT-DESC;FMTTYPE=text/html:<!DOCTYPE HTML PUBLIC "-//W3C//DTD HTML 3.2//EN">\n<HTML>\n<HEAD>\n<META NAME="Generator" CONTENT="MS Exchange Server version 08.00.0681.000">\n<TITLE></TITLE>\n</HEAD>\n<BODY>\n<!-- Converted from text/rtf format -->\n\nA real estate licensee’s awareness of federal fair housing laws and sensitivity to consumer diversity is vital to business success, reputation, and growth. Licensees will learn why it is necessary to understand fair housing laws and the impact that both fair housing and diversity have on their business.<br /><br />CE Credits - 4 <br />EBook - $5<br />Cost - $35\n\n</BODY>\n</HTML>

LOCATION:
END:VEVENT

END:VCALENDAR
