BEGIN:VCALENDAR
VERSION:2.0
PRODID:-//hacksw/handcal//NONSGML v1.0//EN
BEGIN:VEVENT
UID:e4d3b97ef279c383a280d2fd614193d9
DTSTAMP:20260420T072918Z

DTSTART:20200601T110000
DTEND:20201031T110000
SUMMARY:GRI: Investments & Management #9155 - Online
DESCRIPTION:This course provides an introduction to investment real estate. Real estate investment terminology, taxation, and principles of investing in real estate will be reviewed. Students will complete and analyze cash flow and tax analysis forms, cash flows after tax, as well as net operating income.\n\nGE Credits - 4\nEBook - $5\nCost - $38

X-ALT-DESC;FMTTYPE=text/html:<!DOCTYPE HTML PUBLIC "-//W3C//DTD HTML 3.2//EN">\n<HTML>\n<HEAD>\n<META NAME="Generator" CONTENT="MS Exchange Server version 08.00.0681.000">\n<TITLE></TITLE>\n</HEAD>\n<BODY>\n<!-- Converted from text/rtf format -->\n\nThis course provides an introduction to investment real estate. Real estate investment terminology, taxation, and principles of investing in real estate will be reviewed. Students will complete and analyze cash flow and tax analysis forms, cash flows after tax, as well as net operating income.<br /><br />GE Credits - 4<br />EBook - $5<br />Cost - $38\n\n</BODY>\n</HTML>

LOCATION:
END:VEVENT

END:VCALENDAR
