BEGIN:VCALENDAR
VERSION:2.0
PRODID:-//hacksw/handcal//NONSGML v1.0//EN
BEGIN:VEVENT
UID:48e7401212ee4c975baa5f82a4bc6175
DTSTAMP:20260420T132320Z

DTSTART:20200722T140000
DTEND:20200722T150000
SUMMARY:Seller Financing and Subject-To and Wrap Mortgages - Webinar
DESCRIPTION:Selling with seller finance can involve a myriad of structures, from a straight owner carry loan, to wrap deeds of trust, contract for deed, and lease options. This class will focus on the advanced structures of "subject to" wraps, and contract for deed.

X-ALT-DESC;FMTTYPE=text/html:<!DOCTYPE HTML PUBLIC "-//W3C//DTD HTML 3.2//EN">\n<HTML>\n<HEAD>\n<META NAME="Generator" CONTENT="MS Exchange Server version 08.00.0681.000">\n<TITLE></TITLE>\n</HEAD>\n<BODY>\n<!-- Converted from text/rtf format -->\n\nSelling with seller finance can involve a myriad of structures, from a straight owner carry loan, to wrap deeds of trust, contract for deed, and lease options. This class will focus on the advanced structures of "subject to" wraps, and contract for deed.\n\n</BODY>\n</HTML>

LOCATION:
END:VEVENT

END:VCALENDAR
