BEGIN:VCALENDAR
VERSION:2.0
PRODID:-//hacksw/handcal//NONSGML v1.0//EN
BEGIN:VEVENT
UID:4217d4fb272171031df02907099eb9e1
DTSTAMP:20260420T054835Z

DTSTART:20200901T110000
DTEND:20201231T110000
SUMMARY:Retail Site Location Analysis #9856
DESCRIPTION:This is an advanced course designed for the experienced broker to teach the skills necessary to reduce risk in the site location process and to zero in on the best location for his or her retail client. This course is written from the perspective of a former Corporate Real Estate Director who worked from a custom Site Location Model for each of the brands, and how he converted those models into a simple system that can be customized for any retail client. The course will teach the skills used by Real Estate Directors for National Franchise Brands.

X-ALT-DESC;FMTTYPE=text/html:<!DOCTYPE HTML PUBLIC "-//W3C//DTD HTML 3.2//EN">\n<HTML>\n<HEAD>\n<META NAME="Generator" CONTENT="MS Exchange Server version 08.00.0681.000">\n<TITLE></TITLE>\n</HEAD>\n<BODY>\n<!-- Converted from text/rtf format -->\n\nThis is an advanced course designed for the experienced broker to teach the skills necessary to reduce risk in the site location process and to zero in on the best location for his or her retail client. This course is written from the perspective of a former Corporate Real Estate Director who worked from a custom Site Location Model for each of the brands, and how he converted those models into a simple system that can be customized for any retail client. The course will teach the skills used by Real Estate Directors for National Franchise Brands.\n\n</BODY>\n</HTML>

LOCATION:
END:VEVENT

END:VCALENDAR
