BEGIN:VCALENDAR
VERSION:2.0
PRODID:-//hacksw/handcal//NONSGML v1.0//EN
BEGIN:VEVENT
UID:5e2fe178f5a5a496e8fff6a22e0a64a2
DTSTAMP:20260420T045624Z

DTSTART:20201015T090000
DTEND:20201015T130000
SUMMARY:Annual Commission Update 4CE *Online*
DESCRIPTION:Join our virtual classroom for your annual update from the Colorado Real Estate Commission. This mandatory course offers the latest updates for colorado real estate agents and provides you with information surrounding property disclosure issues, wire fraud, firpta and more.\n\nCost - $35

X-ALT-DESC;FMTTYPE=text/html:<!DOCTYPE HTML PUBLIC "-//W3C//DTD HTML 3.2//EN">\n<HTML>\n<HEAD>\n<META NAME="Generator" CONTENT="MS Exchange Server version 08.00.0681.000">\n<TITLE></TITLE>\n</HEAD>\n<BODY>\n<!-- Converted from text/rtf format -->\n\nJoin our virtual classroom for your annual update from the Colorado Real Estate Commission. This mandatory course offers the latest updates for colorado real estate agents and provides you with information surrounding property disclosure issues, wire fraud, firpta and more.<br /><br />Cost - $35\n\n</BODY>\n</HTML>

LOCATION:
END:VEVENT

END:VCALENDAR
