BEGIN:VCALENDAR
VERSION:2.0
PRODID:-//hacksw/handcal//NONSGML v1.0//EN
BEGIN:VEVENT
UID:8d79473565d8a9d8dcc1d774a397444b
DTSTAMP:20260420T025820Z

DTSTART:20201201T090000
DTEND:20201201T120000
SUMMARY:Your Clients and Mortgage Forbearance
DESCRIPTION:Many homeowners applied for mortgage forbearances during the COVID-19 pandemic in an attempt to save their homes from foreclosure. Mortgage forbearances are now expected to have mixed results as to their effectiveness helping homeowners avoid foreclosure as homeowners must now find ways to pay them back. This class will give students a deeper understanding about mortgage forbearances, how they work, what there limitations are and how they potentially impact homeowners. By having this deeper understanding, brokers will be better equipped to advise homeowners of their options surrounding mortgage forbearances.\n\nDate: Tuesday - December 1, 2020\nTime: 9:00 am - 12:00 pm\nLocation:  Virtual Classroom\nCost: $30\nCE Credits: 3\nInstructor: Roxane Webster

X-ALT-DESC;FMTTYPE=text/html:<!DOCTYPE HTML PUBLIC "-//W3C//DTD HTML 3.2//EN">\n<HTML>\n<HEAD>\n<META NAME="Generator" CONTENT="MS Exchange Server version 08.00.0681.000">\n<TITLE></TITLE>\n</HEAD>\n<BODY>\n<!-- Converted from text/rtf format -->\n\nMany homeowners applied for mortgage forbearances during the COVID-19 pandemic in an attempt to save their homes from foreclosure. Mortgage forbearances are now expected to have mixed results as to their effectiveness helping homeowners avoid foreclosure as homeowners must now find ways to pay them back. This class will give students a deeper understanding about mortgage forbearances, how they work, what there limitations are and how they potentially impact homeowners. By having this deeper understanding, brokers will be better equipped to advise homeowners of their options surrounding mortgage forbearances.<br /><br />Date: Tuesday - December 1, 2020<br />Time: 9:00 am - 12:00 pm<br />Location:  Virtual Classroom<br />Cost: $30<br />CE Credits: 3<br />Instructor: Roxane Webster\n\n</BODY>\n</HTML>

LOCATION:
END:VEVENT

END:VCALENDAR
