BEGIN:VCALENDAR
VERSION:2.0
PRODID:-//hacksw/handcal//NONSGML v1.0//EN
BEGIN:VEVENT
UID:e32d3c7919f952bb06dd4752d75ea6ef
DTSTAMP:20260420T020541Z

DTSTART:20210121T133000
DTEND:20210121T143000
SUMMARY:Learning from Claims
DESCRIPTION:This presentation is geared for real estate agents that are curious about the world of title claims, and who want to learn more about how to anticipate and navigate around potential bumps in the road that could lead to title insurance claims in the future. In this presentation we will review some real title insurance claims, the limitations in the claims process, and some helpful tips on how to anticipate and avoid claims in the future.\n\nCost - 0\nCredits - 2\n\nInstructor Name - ANTHONY MEISNER\nCompany Name - Land Title Guarantee Company

X-ALT-DESC;FMTTYPE=text/html:<!DOCTYPE HTML PUBLIC "-//W3C//DTD HTML 3.2//EN">\n<HTML>\n<HEAD>\n<META NAME="Generator" CONTENT="MS Exchange Server version 08.00.0681.000">\n<TITLE></TITLE>\n</HEAD>\n<BODY>\n<!-- Converted from text/rtf format -->\n\nThis presentation is geared for real estate agents that are curious about the world of title claims, and who want to learn more about how to anticipate and navigate around potential bumps in the road that could lead to title insurance claims in the future. In this presentation we will review some real title insurance claims, the limitations in the claims process, and some helpful tips on how to anticipate and avoid claims in the future.<br /><br />Cost - 0<br />Credits - 2<br /><br />Instructor Name - ANTHONY MEISNER<br />Company Name - Land Title Guarantee Company\n\n</BODY>\n</HTML>

LOCATION:
END:VEVENT

END:VCALENDAR
