BEGIN:VCALENDAR
VERSION:2.0
PRODID:-//hacksw/handcal//NONSGML v1.0//EN
BEGIN:VEVENT
UID:3eb8a7b7388ca82598d1e82c328f0cd7
DTSTAMP:20260419T200344Z

DTSTART:20210208T090000
DTEND:20210208T130000
SUMMARY:2021 Annual Commission Update - Feb 8
DESCRIPTION:Every year the Division of Real Estate releases the required Annual Commission Update (ACU) course with topics the Division believes are important for brokers to know. This is the required class every broker must take each year.\n\nCost - $40\nCredits - 4\n\nInstructor Name - Damian Cox\nCompany Name - Cox Education, LLC.

X-ALT-DESC;FMTTYPE=text/html:<!DOCTYPE HTML PUBLIC "-//W3C//DTD HTML 3.2//EN">\n<HTML>\n<HEAD>\n<META NAME="Generator" CONTENT="MS Exchange Server version 08.00.0681.000">\n<TITLE></TITLE>\n</HEAD>\n<BODY>\n<!-- Converted from text/rtf format -->\n\nEvery year the Division of Real Estate releases the required Annual Commission Update (ACU) course with topics the Division believes are important for brokers to know. This is the required class every broker must take each year.<br /><br />Cost - $40<br />Credits - 4<br /><br />Instructor Name - Damian Cox<br />Company Name - Cox Education, LLC.\n\n</BODY>\n</HTML>

LOCATION:
END:VEVENT

END:VCALENDAR
