BEGIN:VCALENDAR
VERSION:2.0
PRODID:-//hacksw/handcal//NONSGML v1.0//EN
BEGIN:VEVENT
UID:774c2c41f3e9df2d7d02275622446e6b
DTSTAMP:20260420T005823Z

DTSTART:20210208T110000
DTEND:20210208T120000
SUMMARY:4Q 2020 Trends - Feb 8
DESCRIPTION:Clients always ask “how’s the market?” This class gives you specific talking points to sound like an expert on the trends for the previous Quarter. We also discuss how you can use the information for listing presentations, and for buyers that aren’t sure if “now is the time to trade up” or if they should wait until later. \n\n1 CE Credit Available

X-ALT-DESC;FMTTYPE=text/html:<!DOCTYPE HTML PUBLIC "-//W3C//DTD HTML 3.2//EN">\n<HTML>\n<HEAD>\n<META NAME="Generator" CONTENT="MS Exchange Server version 08.00.0681.000">\n<TITLE></TITLE>\n</HEAD>\n<BODY>\n<!-- Converted from text/rtf format -->\n\nClients always ask “how’s the market?” This class gives you specific talking points to sound like an expert on the trends for the previous Quarter. We also discuss how you can use the information for listing presentations, and for buyers that aren’t sure if “now is the time to trade up” or if they should wait until later. <br /><br />1 CE Credit Available\n\n</BODY>\n</HTML>

LOCATION:
END:VEVENT

END:VCALENDAR
