BEGIN:VCALENDAR
VERSION:2.0
PRODID:-//hacksw/handcal//NONSGML v1.0//EN
BEGIN:VEVENT
UID:a0447f3870a00f5a8209c15fc0de7de6
DTSTAMP:20260420T035749Z

DTSTART:20180314T183000
DTEND:20180314T200000
SUMMARY:Denver Real Estate Market 
DESCRIPTION:This event is for First Time Home buyers who are interested in learning about the Denver Market and some of the very best Down Payment Assistance Programs available in Colorado

X-ALT-DESC;FMTTYPE=text/html:<!DOCTYPE HTML PUBLIC "-//W3C//DTD HTML 3.2//EN">\n<HTML>\n<HEAD>\n<META NAME="Generator" CONTENT="MS Exchange Server version 08.00.0681.000">\n<TITLE></TITLE>\n</HEAD>\n<BODY>\n<!-- Converted from text/rtf format -->\n\nThis event is for First Time Home buyers who are interested in learning about the Denver Market and some of the very best Down Payment Assistance Programs available in Colorado\n\n</BODY>\n</HTML>

LOCATION:
END:VEVENT

END:VCALENDAR
